BEGIN:VCALENDAR
VERSION:2.0
PRODID:-//ChamberMaster//Event Calendar 2.0//EN
METHOD:PUBLISH
X-PUBLISHED-TTL:P3D
REFRESH-INTERVAL:P3D
CALSCALE:GREGORIAN
BEGIN:VEVENT
DTSTART:20260105T200000Z
DTEND:20260105T203000Z
X-MICROSOFT-CDO-ALLDAYEVENT:FALSE
SUMMARY:Teen Challenge/My Daddy's Cheesecake Ribbon Cutting
DESCRIPTION:Join us as we celebrate the new ownership of My Daddy's Cheesecake with a ribbon cutting!
X-ALT-DESC;FMTTYPE=text/html:Join us as we celebrate the new ownership of <a href="https://business.capechamber.com/list/member/my-daddy-s-cheesecake-2533">My Daddy&#39\;s Cheesecake</a>&nbsp\;with a ribbon cutting!&nbsp\;
LOCATION:265 South Broadview St Cape Girardeau\, MO 63703
UID:e.1421.12673
SEQUENCE:3
DTSTAMP:20260424T171047Z
URL:https://business.capechamber.com/events/details/teen-challenge-my-daddy-s-cheesecake-ribbon-cutting-12673
END:VEVENT

END:VCALENDAR
