BEGIN:VCALENDAR
VERSION:2.0
PRODID:-//ChamberMaster//Event Calendar 2.0//EN
METHOD:PUBLISH
X-PUBLISHED-TTL:P3D
REFRESH-INTERVAL:P3D
CALSCALE:GREGORIAN
BEGIN:VEVENT
DTSTART:20171221T150000Z
DTEND:20171221T153000Z
X-MICROSOFT-CDO-ALLDAYEVENT:FALSE
SUMMARY:The Arbors at Auburn Creek
DESCRIPTION:Join us as we celebrate The Arbors at Auburn Creek's remodel!
X-ALT-DESC;FMTTYPE=text/html:Join us as we celebrate The Arbors at Auburn Creek&#39\;s remodel!
LOCATION:
UID:e.1421.1832
SEQUENCE:3
DTSTAMP:20260423T191921Z
URL:https://business.capechamber.com/events/details/the-arbors-at-auburn-creek-1832
END:VEVENT

END:VCALENDAR
