BEGIN:VCALENDAR
VERSION:2.0
PRODID:-//ChamberMaster//Event Calendar 2.0//EN
METHOD:PUBLISH
X-PUBLISHED-TTL:P3D
REFRESH-INTERVAL:P3D
CALSCALE:GREGORIAN
BEGIN:VEVENT
DTSTART:20170725T140000Z
DTEND:20170725T143000Z
X-MICROSOFT-CDO-ALLDAYEVENT:FALSE
SUMMARY:The Arbors at Capetown Memory Care Assisted Living Ribbon Cutting
DESCRIPTION:Join us as we celebrate The Arbors at Capetown Memory Care Assisted Living's new development.
X-ALT-DESC;FMTTYPE=text/html:Join us as we celebrate The Arbors at Capetown Memory Care Assisted Living&#39\;s new development.&nbsp\;&nbsp\;&nbsp\;&nbsp\;&nbsp\;
LOCATION:2915 Cape La Croix Rd Cape Girardeau\, MO 63701
UID:e.1421.1767
SEQUENCE:3
DTSTAMP:20260423T113021Z
URL:https://business.capechamber.com/events/details/the-arbors-at-capetown-memory-care-assisted-living-ribbon-cutting-1767
END:VEVENT

END:VCALENDAR
