BEGIN:VCALENDAR
VERSION:2.0
PRODID:-//ChamberMaster//Event Calendar 2.0//EN
METHOD:PUBLISH
X-PUBLISHED-TTL:P3D
REFRESH-INTERVAL:P3D
CALSCALE:GREGORIAN
BEGIN:VEVENT
DTSTART:20171205T190000Z
DTEND:20171205T193000Z
X-MICROSOFT-CDO-ALLDAYEVENT:FALSE
SUMMARY:The Country Place Ribbon Cutting
DESCRIPTION:Join us as we celebrate the rebranding and remodel of The Country Place!
X-ALT-DESC;FMTTYPE=text/html:Join us as we celebrate the rebranding and remodel of The Country Place!
LOCATION:28601 US-61 Scott City\, MO
UID:e.1421.1825
SEQUENCE:3
DTSTAMP:20260423T174145Z
URL:https://business.capechamber.com/events/details/the-country-place-ribbon-cutting-1825
END:VEVENT

END:VCALENDAR
