BEGIN:VCALENDAR
VERSION:2.0
PRODID:-//ChamberMaster//Event Calendar 2.0//EN
METHOD:PUBLISH
X-PUBLISHED-TTL:P3D
REFRESH-INTERVAL:P3D
CALSCALE:GREGORIAN
BEGIN:VEVENT
DTSTART:20180320T210000Z
DTEND:20180320T213000Z
X-MICROSOFT-CDO-ALLDAYEVENT:FALSE
SUMMARY:The District at Cape Ribbon Cutting
DESCRIPTION:Join us as we celebrate The District at Cape's recent remodel of their residence center!
X-ALT-DESC;FMTTYPE=text/html:Join us as we celebrate The District at Cape&#39\;s recent remodel of their residence center!
LOCATION:430 South Spring Street Cape Girardeau\, MO
UID:e.1421.3912
SEQUENCE:3
DTSTAMP:20260423T222206Z
URL:https://business.capechamber.com/events/details/the-district-at-cape-ribbon-cutting-3912
END:VEVENT

END:VCALENDAR
