BEGIN:VCALENDAR
VERSION:2.0
PRODID:-//ChamberMaster//Event Calendar 2.0//EN
METHOD:PUBLISH
X-PUBLISHED-TTL:P3D
REFRESH-INTERVAL:P3D
CALSCALE:GREGORIAN
BEGIN:VEVENT
DTSTART:20260206T153000Z
DTEND:20260206T160000Z
X-MICROSOFT-CDO-ALLDAYEVENT:FALSE
SUMMARY:THE DRIPBaR at PC Medical Centers Ribbon Cutting
DESCRIPTION:Join us as we celebrate the grand opening of THE DRIP BaR at PC Medical Centers with a ribbon cutting!
X-ALT-DESC;FMTTYPE=text/html:Join us as we celebrate the grand opening of <a href="https://business.capechamber.com/list/member/the-dripbar-cape-girardeau-8757"><span style="color:#00cc33\;">THE DRIP Ba</span></a><a href="http://business.capechamber.com/list/member/the-dripbar-cape-girardeau-8757"><span style="color:#00cc33\;">R</span></a><a href="http://business.capechamber.com/list/member/the-dripbar-cape-girardeau-8757"><span style="color:#00cc33\;">&nbsp\;at PC Medical Centers</span></a>&nbsp\;with a ribbon cutting!&nbsp\;
LOCATION:5 Doctor's Park Dr\, Cape Girardeau\, MO 63701
UID:e.1421.12675
SEQUENCE:3
DTSTAMP:20260424T154213Z
URL:https://business.capechamber.com/events/details/the-dripbar-at-pc-medical-centers-ribbon-cutting-12675
END:VEVENT

END:VCALENDAR
