BEGIN:VCALENDAR
VERSION:2.0
PRODID:-//ChamberMaster//Event Calendar 2.0//EN
METHOD:PUBLISH
X-PUBLISHED-TTL:P3D
REFRESH-INTERVAL:P3D
CALSCALE:GREGORIAN
BEGIN:VEVENT
DTSTART:20181129T173000Z
DTEND:20181129T180000Z
X-MICROSOFT-CDO-ALLDAYEVENT:FALSE
SUMMARY:The Freeman Clinic Ribbon Cutting
DESCRIPTION:Join us as we celebrate The Freeman Clinic's grand opening with a ribbon cutting.
X-ALT-DESC;FMTTYPE=text/html:Join us as we celebrate The Freeman Clinic&#39\;s grand opening with a ribbon cutting.&nbsp\;
LOCATION:23 Doctors' Park - Entrance B Cape Girardeau\, MO
UID:e.1421.5706
SEQUENCE:3
DTSTAMP:20260424T103726Z
URL:https://business.capechamber.com/events/details/the-freeman-clinic-ribbon-cutting-5706
END:VEVENT

END:VCALENDAR
