BEGIN:VCALENDAR
VERSION:2.0
PRODID:-//ChamberMaster//Event Calendar 2.0//EN
METHOD:PUBLISH
X-PUBLISHED-TTL:P3D
REFRESH-INTERVAL:P3D
CALSCALE:GREGORIAN
BEGIN:VEVENT
DTSTART:20191120T183000Z
DTEND:20191120T190000Z
X-MICROSOFT-CDO-ALLDAYEVENT:FALSE
SUMMARY:The Greener Days Ribbon Cutting
DESCRIPTION:Join us as we help The Greener Days celebrate their grand opening with a ribbon cutting!
X-ALT-DESC;FMTTYPE=text/html:Join us as we help The Greener Days celebrate their grand opening with a ribbon cutting!
LOCATION:2112 William Street Cape Girardeau\, MO
UID:e.1421.6495
SEQUENCE:3
DTSTAMP:20260423T141909Z
URL:https://business.capechamber.com/events/details/the-greener-days-ribbon-cutting-6495
END:VEVENT

END:VCALENDAR
