BEGIN:VCALENDAR
VERSION:2.0
PRODID:-//ChamberMaster//Event Calendar 2.0//EN
METHOD:PUBLISH
X-PUBLISHED-TTL:P3D
REFRESH-INTERVAL:P3D
CALSCALE:GREGORIAN
BEGIN:VEVENT
DTSTART:20180601T150000Z
DTEND:20180601T150000Z
X-MICROSOFT-CDO-ALLDAYEVENT:FALSE
SUMMARY:The Lemonade House Grille Ribbon Cutting
DESCRIPTION:Join us in helping welcome The Lemonade House Grille to Cape Girardeau with a ribbon cutting!
X-ALT-DESC;FMTTYPE=text/html:Join us in helping welcome The Lemonade House Grille to Cape Girardeau with a ribbon cutting!
LOCATION:350 N Kingshighway Cape Girardeau\, MO
UID:e.1421.5360
SEQUENCE:3
DTSTAMP:20260424T025509Z
URL:https://business.capechamber.com/events/details/the-lemonade-house-grille-ribbon-cutting-5360
END:VEVENT

END:VCALENDAR
