BEGIN:VCALENDAR
VERSION:2.0
PRODID:-//ChamberMaster//Event Calendar 2.0//EN
METHOD:PUBLISH
X-PUBLISHED-TTL:P3D
REFRESH-INTERVAL:P3D
CALSCALE:GREGORIAN
BEGIN:VEVENT
DTSTART:20180913T123000Z
DTEND:20180913T140000Z
X-MICROSOFT-CDO-ALLDAYEVENT:FALSE
SUMMARY:The Morning Scoop
DESCRIPTION:From new business services to community revitalization\, Cape Girardeau is bustling with innovation. Join the Chamber Young Professionals at the Cape Girardeau Police Department to get The Morning Scoop from local leaders who are directly involved with various hot topics in the community.\n\n\n\nTo be discussed at the event:\n\n \n\nCreative cutting   Making the most of a tough situation\n\nChris Martin\, Southeast Missouri State University\n\n\n\nOld places have soul   Identifying the need and taking the risk\n\nCara Naeger - TAG Development\n\n\n\nThe art of intrapreneurship   Embracing change and innovating accordingly\n\nChris Conroy\, KFVS12\n\n \n\nWOW - Creating meaningful partnerships \n\nBrad Smith\, Cape Girardeau Police Department
X-ALT-DESC;FMTTYPE=text/html:From new business services to community revitalization\, Cape Girardeau is bustling with innovation. Join the Chamber Young Professionals at the Cape Girardeau Police Department to get The Morning Scoop from local leaders who are directly involved with various hot topics in the community.<br />\n<br />\nTo be discussed at the event:<br />\n&nbsp\;<br />\nCreative cutting &ndash\; Making the most of a tough situation<br />\nChris Martin\, Southeast Missouri State University<br />\n<br />\nOld places have soul &ndash\; Identifying the need and taking the risk<br />\nCara Naeger - TAG Development<br />\n<br />\nThe art of intrapreneurship &ndash\; Embracing change and innovating accordingly<br />\nChris Conroy\, KFVS12<br />\n&nbsp\;<br />\nWOW - Creating meaningful partnerships&nbsp\;<br />\nBrad Smith\, Cape Girardeau Police Department<br />\n&nbsp\;
LOCATION:Location change: Board Room\, Regional Development Center at the Cape Chamber office 220 N. Fountain St. Cape Girardeau\, MO
UID:e.1421.5652
SEQUENCE:3
DTSTAMP:20260424T071709Z
URL:https://business.capechamber.com/events/details/the-morning-scoop-5652
END:VEVENT

END:VCALENDAR
