BEGIN:VCALENDAR
VERSION:2.0
PRODID:-//ChamberMaster//Event Calendar 2.0//EN
METHOD:PUBLISH
X-PUBLISHED-TTL:P3D
REFRESH-INTERVAL:P3D
CALSCALE:GREGORIAN
BEGIN:VEVENT
DTSTART:20190118T210000Z
DTEND:20190118T213000Z
X-MICROSOFT-CDO-ALLDAYEVENT:FALSE
SUMMARY:The Orthopedic Center of St. Louis - Cape Girardeau Ribbon Cutting
DESCRIPTION:Join us in celebrating the grand opening of The Orthopedic Center of St. Louis' new Cape Girardeau location. Aside from the ribbon cutting\, the Cape Girardeau location will be hosting a Meet the Doctors open house event on Saturday\, January 19\, 2019.
X-ALT-DESC;FMTTYPE=text/html:Join us in celebrating the grand opening of The Orthopedic Center of St. Louis&#39\; new Cape Girardeau location. Aside from the ribbon cutting\, the Cape Girardeau location will be hosting a Meet the Doctors open house event on Saturday\, January 19\, 2019.&nbsp\;
LOCATION:201 S. Mount Auburn Rd.\, Suite C Cape Girardeau\, MO
UID:e.1421.5729
SEQUENCE:3
DTSTAMP:20260424T073536Z
URL:https://business.capechamber.com/events/details/the-orthopedic-center-of-st-louis-cape-girardeau-ribbon-cutting-5729
END:VEVENT

END:VCALENDAR
