BEGIN:VCALENDAR
VERSION:2.0
PRODID:-//ChamberMaster//Event Calendar 2.0//EN
METHOD:PUBLISH
X-PUBLISHED-TTL:P3D
REFRESH-INTERVAL:P3D
CALSCALE:GREGORIAN
BEGIN:VEVENT
DTSTART:20180622T210000Z
DTEND:20180622T210000Z
X-MICROSOFT-CDO-ALLDAYEVENT:FALSE
SUMMARY:the room. Hair Design Studio Ribbon Cutting
DESCRIPTION:the room. Hair Design Studio is celebrating their one year anniversary with a ribbon cutting! Following the ribbon cutting\, there will be an open house event with food\, beverages\, and giveaways from 6:00 - 9:00 PM. We hope you will join us in helping them celebrate this milestone!
X-ALT-DESC;FMTTYPE=text/html:the room. Hair Design Studio is celebrating their one year anniversary with a ribbon cutting! Following the ribbon cutting\, there will be an open house event with food\, beverages\, and giveaways from 6:00 - 9:00 PM. We hope you will join us in helping them celebrate this milestone!
LOCATION:625 Broadway Cape Girardeau\, MO
UID:e.1421.5354
SEQUENCE:3
DTSTAMP:20260424T025222Z
URL:https://business.capechamber.com/events/details/the-room-hair-design-studio-ribbon-cutting-5354
END:VEVENT

END:VCALENDAR
