BEGIN:VCALENDAR
VERSION:2.0
PRODID:-//ChamberMaster//Event Calendar 2.0//EN
METHOD:PUBLISH
X-PUBLISHED-TTL:P3D
REFRESH-INTERVAL:P3D
CALSCALE:GREGORIAN
BEGIN:VEVENT
DTSTART:20200114T150000Z
DTEND:20200114T153000Z
X-MICROSOFT-CDO-ALLDAYEVENT:FALSE
SUMMARY:Tin & Cotton Trading Co. Ribbon Cutting
DESCRIPTION:Join us as we celebrate Tin & Cotton Trading Co.'s grand opening with a ribbon cutting!
X-ALT-DESC;FMTTYPE=text/html:Join us as we celebrate <a href="http://www.capechamber.com/member-directory/" target="_blank"><span style="color:#008000\;">T</span></a><a href="http://www.capechamber.com/members/tin-cotton-trading-co" target="_blank"><span style="color:#008000\;">in &amp\; Cotton</span></a> Trading Co.&#39\;s&nbsp\;grand opening with a ribbon cutting!
LOCATION:610 S Kingshighway\, Ste 102 Cape Girardeau\, MO
UID:e.1421.6517
SEQUENCE:3
DTSTAMP:20260423T112937Z
URL:https://business.capechamber.com/events/details/tin-cotton-trading-co-ribbon-cutting-6517
END:VEVENT

END:VCALENDAR
