BEGIN:VCALENDAR
VERSION:2.0
PRODID:-//ChamberMaster//Event Calendar 2.0//EN
METHOD:PUBLISH
X-PUBLISHED-TTL:P3D
REFRESH-INTERVAL:P3D
CALSCALE:GREGORIAN
BEGIN:VEVENT
DTSTART:20180322T224500Z
DTEND:20180323T000000Z
X-MICROSOFT-CDO-ALLDAYEVENT:FALSE
SUMMARY:Today Matters VIRTUAL MasterMind Group
DESCRIPTION:The Today Matters Leadership book gives readers a roadmap for growing their influence one day at a time. In the book\, John C. Maxwell describes success as a process rather than an achievement. He advises readers to concentrate on the day at hand rather than looking in the rearview mirror or gazing too far into the future. Most importantly\, he urges readers to adjust their daily routines in order to cultivate healthy habits that will help them win in leadership and in life.\n\n\n\nThe Today Matters MasterMind group meets for 75 minutes per week to discuss the book\, to share personal interpretations of the material\, to learn from their peers\, and to put principle to practice in their personal and professional lives.\n\n\n\nMeets Thursdays March 22\, 2018 - May 10\, 2018\n\n5:45-7:00 p.m.\n\n\n\n$275 per participant (includes all 8 sessions and a free copy of the book)\n\n\n\nTo register\, please view our website at: https://www.glennpr.com/mastermind-registration-form.html
X-ALT-DESC;FMTTYPE=text/html:The Today Matters Leadership book gives readers a roadmap for growing their influence one day at a time. In the book\, John C. Maxwell describes success as a process rather than an achievement. He advises readers to concentrate on the day at hand rather than looking in the rearview mirror or gazing too far into the future. Most importantly\, he urges readers to adjust their daily routines in order to cultivate healthy habits that will help them win in leadership and in life.<br />\n<br />\nThe Today Matters MasterMind group meets for 75 minutes per week to discuss the book\, to share personal interpretations of the material\, to learn from their peers\, and to put principle to practice in their personal and professional lives.<br />\n<br />\nMeets Thursdays March 22\, 2018 - May 10\, 2018<br />\n5:45-7:00 p.m.<br />\n<br />\n$275 per participant (includes all 8 sessions and a free copy of the book)<br />\n<br />\nTo register\, please view our website at: <a href="https://www.glennpr.com/mastermind-registration-form.htm">https://www.glennpr.com/mastermind-registration-form.htm</a><a href="https://www.glennpr.com/mastermind-registration-form.html">l</a>
LOCATION:Meets Online
UID:e.1421.3896
SEQUENCE:3
DTSTAMP:20260423T221857Z
URL:https://business.capechamber.com/events/details/today-matters-virtual-mastermind-group-3896
END:VEVENT

END:VCALENDAR
