BEGIN:VCALENDAR
VERSION:2.0
PRODID:-//ChamberMaster//Event Calendar 2.0//EN
METHOD:PUBLISH
X-PUBLISHED-TTL:P3D
REFRESH-INTERVAL:P3D
CALSCALE:GREGORIAN
BEGIN:VEVENT
DTSTART:20190813T203000Z
DTEND:20190813T220000Z
X-MICROSOFT-CDO-ALLDAYEVENT:FALSE
SUMMARY:(TR)Chamber 101
DESCRIPTION:The past year brought many new and exciting changes for the Cape Chamber. In addition to making progress on a variety of ongoing initiatives\, we implemented our essential skills campaign   Capable\, expanded our job shadowing program to include both high school and University students\, launched several small networking groups\, and are currently in the process of growing our Talent Attraction Campaign in an effort to improve area talent.\n\n \n\nWe would enjoy the opportunity to share more with you about each of these things and other ways the Chamber can benefit your organization. So\, whether you're new to the Cape Chamber\, a life-long member\, or simply interested in learning more about what the Cape Chamber can offer you and your business\, please join us for our free\, quarterly Chamber 101 event.
X-ALT-DESC;FMTTYPE=text/html:<span style="color:windowtext\;"><span style="font-family:calibri\,sans-serif\;"><span style="font-size:11.0pt\;">The past year brought many new and exciting changes for the Cape Chamber. In addition to making progress on a variety of ongoing initiatives\, we implemented our essential skills campaign &ndash\; Capable\, expanded our job shadowing program to include both high school and University students\, launched several small networking groups\, and are currently in the process of growing our Talent Attraction Campaign in an effort to improve area talent.</span></span></span><br />\n&nbsp\;<br />\n<span style="color:windowtext\;"><span style="font-family:calibri\,sans-serif\;"><span style="font-size:11.0pt\;">We would enjoy the opportunity to share more with you about each of these things and other ways the Chamber can benefit your organization. So\, whether you&#39\;re new to the Cape Chamber\, a life-long member\, or simply interested in learning more about what the Cape Chamber can offer you and your business\, please join us for our free\, quarterly Chamber 101 event.</span></span></span>
LOCATION:Cape Chamber 220 N Fountain St. Cape Girardeau\, MO Parking is available in both lots behind the Marquette Tower and the Courtyard by Marriott
UID:e.1421.5721
SEQUENCE:3
DTSTAMP:20260423T211848Z
URL:https://business.capechamber.com/events/details/tr-chamber-101-5721
END:VEVENT

END:VCALENDAR
