BEGIN:VCALENDAR
VERSION:2.0
PRODID:-//ChamberMaster//Event Calendar 2.0//EN
METHOD:PUBLISH
X-PUBLISHED-TTL:P3D
REFRESH-INTERVAL:P3D
CALSCALE:GREGORIAN
BEGIN:VEVENT
DTSTART:20190124T153000Z
DTEND:20190124T193000Z
X-MICROSOFT-CDO-ALLDAYEVENT:FALSE
SUMMARY:(TR) Parents as Teachers
DESCRIPTION:
X-ALT-DESC;FMTTYPE=text/html:
LOCATION:
UID:e.1421.5878
SEQUENCE:3
DTSTAMP:20260424T060018Z
URL:https://business.capechamber.com/events/details/tr-parents-as-teachers-5878
END:VEVENT

END:VCALENDAR
