BEGIN:VCALENDAR
VERSION:2.0
PRODID:-//ChamberMaster//Event Calendar 2.0//EN
METHOD:PUBLISH
X-PUBLISHED-TTL:P3D
REFRESH-INTERVAL:P3D
CALSCALE:GREGORIAN
BEGIN:VEVENT
DTSTART:20171215T190000Z
DTEND:20171215T193000Z
X-MICROSOFT-CDO-ALLDAYEVENT:FALSE
SUMMARY:Ultimate Air Trampoline Park Ribbon Cutting
DESCRIPTION:Join us as we celebrate the grand opening of Ultimate Air Trampoline Park!
X-ALT-DESC;FMTTYPE=text/html:Join us as we celebrate the grand opening of Ultimate Air Trampoline Park!
LOCATION:4240 Nash Road Cape Girardeau\, MO
UID:e.1421.1824
SEQUENCE:3
DTSTAMP:20260423T174203Z
URL:https://business.capechamber.com/events/details/ultimate-air-trampoline-park-ribbon-cutting-1824
END:VEVENT

END:VCALENDAR
