BEGIN:VCALENDAR
VERSION:2.0
PRODID:-//ChamberMaster//Event Calendar 2.0//EN
METHOD:PUBLISH
X-PUBLISHED-TTL:P3D
REFRESH-INTERVAL:P3D
CALSCALE:GREGORIAN
BEGIN:VEVENT
DTSTART:20171011T210000Z
DTEND:20171011T213000Z
X-MICROSOFT-CDO-ALLDAYEVENT:FALSE
SUMMARY:United Way Ribbon Cutting
DESCRIPTION:Join us as we celebrate United Way's relocation!\n\nOpen house to follow ribbon cutting.
X-ALT-DESC;FMTTYPE=text/html:Join us as we celebrate United Way&#39\;s relocation!<br />\nOpen house to follow ribbon cutting.
LOCATION:1417 D North Mount Auburn Road Cape Girardeau\, MO
UID:e.1421.1776
SEQUENCE:3
DTSTAMP:20260423T141846Z
URL:https://business.capechamber.com/events/details/united-way-ribbon-cutting-1776
END:VEVENT

END:VCALENDAR
