BEGIN:VCALENDAR
VERSION:2.0
PRODID:-//ChamberMaster//Event Calendar 2.0//EN
METHOD:PUBLISH
X-PUBLISHED-TTL:P3D
REFRESH-INTERVAL:P3D
CALSCALE:GREGORIAN
BEGIN:VEVENT
DTSTART:20190325T170000Z
DTEND:20190325T173000Z
X-MICROSOFT-CDO-ALLDAYEVENT:FALSE
SUMMARY:VanGennip Insurance & Financial Services Ribbon Cutting
DESCRIPTION:Join us as we celebrate the grand opening of VanGennip Insurance & Financial Services with a ribbon cutting.
X-ALT-DESC;FMTTYPE=text/html:Join us as we celebrate the grand opening of VanGennip Insurance &amp\; Financial Services with a ribbon cutting.&nbsp\;
LOCATION:104 S. Blair Street Advance\, MO
UID:e.1421.6081
SEQUENCE:3
DTSTAMP:20260424T031243Z
URL:https://business.capechamber.com/events/details/vangennip-insurance-financial-services-ribbon-cutting-6081
END:VEVENT

END:VCALENDAR
