BEGIN:VCALENDAR
VERSION:2.0
PRODID:-//ChamberMaster//Event Calendar 2.0//EN
METHOD:PUBLISH
X-PUBLISHED-TTL:P3D
REFRESH-INTERVAL:P3D
CALSCALE:GREGORIAN
BEGIN:VEVENT
DTSTART:20200131T180000Z
DTEND:20200131T183000Z
X-MICROSOFT-CDO-ALLDAYEVENT:FALSE
SUMMARY:VanGennip Insurance & Financial Services Ribbon Cutting
DESCRIPTION:Join us as we help VanGennip Insurance & Financial Services celebrate their expansion to a new\, second location in Chaffee! Snacks and coffee will be provided.
X-ALT-DESC;FMTTYPE=text/html:Join us as we help <a href="https://www.capechamber.com/members/vangennip-insurance-financial-services" target="_blank"><span style="color:#008000\;">V</span></a><a href="https://www.capechamber.com/members/vangennip-insurance-financial-services" target="_blank"><span style="color:#008000\;">anGennip Insurance &amp\; Financial Services</span></a><span style="color:#008000\;"> </span>celebrate their expansion to a new\, second location in Chaffee! Snacks and coffee will be provided.&nbsp\;
LOCATION:101 W Yoakum Chaffee\, MO
UID:e.1421.6515
SEQUENCE:3
DTSTAMP:20260423T113043Z
URL:https://business.capechamber.com/events/details/vangennip-insurance-financial-services-ribbon-cutting-6515
END:VEVENT

END:VCALENDAR
