BEGIN:VCALENDAR
VERSION:2.0
PRODID:-//ChamberMaster//Event Calendar 2.0//EN
METHOD:PUBLISH
X-PUBLISHED-TTL:P3D
REFRESH-INTERVAL:P3D
CALSCALE:GREGORIAN
BEGIN:VEVENT
DTSTART:20181127T180000Z
DTEND:20181127T183000Z
X-MICROSOFT-CDO-ALLDAYEVENT:FALSE
SUMMARY:Visiting Nurse Association of Southeast Missouri Ribbon Cutting
DESCRIPTION:Join us in celebrating VNA's 25th Year offering hospice services to Southeast Missouri. There will be an open house from 11:30 - 1:00 where you can meet hospice staff and enjoy refreshments with a ribbon cutting at 12:00.
X-ALT-DESC;FMTTYPE=text/html:Join us in celebrating VNA&#39\;s 25th Year offering hospice services to Southeast Missouri. There will be an open house from 11:30 - 1:00 where you can meet hospice staff and enjoy refreshments with a ribbon cutting at 12:00.&nbsp\;
LOCATION:145 S. Mount Auburn Rd. Cape Girardeau\, MO
UID:e.1421.5707
SEQUENCE:3
DTSTAMP:20260424T091709Z
URL:https://business.capechamber.com/events/details/visiting-nurse-association-of-southeast-missouri-ribbon-cutting-5707
END:VEVENT

END:VCALENDAR
