BEGIN:VCALENDAR
VERSION:2.0
PRODID:-//ChamberMaster//Event Calendar 2.0//EN
METHOD:PUBLISH
X-PUBLISHED-TTL:P3D
REFRESH-INTERVAL:P3D
CALSCALE:GREGORIAN
BEGIN:VEVENT
DTSTART:20180605T140000Z
DTEND:20180605T143000Z
X-MICROSOFT-CDO-ALLDAYEVENT:FALSE
SUMMARY:Wal-Mart Ribbon Cutting
DESCRIPTION:Join us in celebrating the grand opening of the Online Grocery Program (OGP) at Wal-Mart!
X-ALT-DESC;FMTTYPE=text/html:Join us in celebrating the grand opening of the Online Grocery Program (OGP) at Wal-Mart!
LOCATION:3439 William Street Cape Girardeau\, MO
UID:e.1421.4270
SEQUENCE:3
DTSTAMP:20260424T024837Z
URL:https://business.capechamber.com/events/details/wal-mart-ribbon-cutting-4270
END:VEVENT

END:VCALENDAR
