BEGIN:VCALENDAR
VERSION:2.0
PRODID:-//ChamberMaster//Event Calendar 2.0//EN
METHOD:PUBLISH
X-PUBLISHED-TTL:P3D
REFRESH-INTERVAL:P3D
CALSCALE:GREGORIAN
BEGIN:VEVENT
DTSTART:20171116T220000Z
DTEND:20171116T223000Z
X-MICROSOFT-CDO-ALLDAYEVENT:FALSE
SUMMARY:Ward Title Insurance Agency Ribbon Cutting
DESCRIPTION:Join us as we celebrate the announcement of the company's new name!\n\n\n\n212 Main St.\n\nCape Girardeau\, MO
X-ALT-DESC;FMTTYPE=text/html:Join us as we celebrate the announcement of the company&#39\;s new name!<br />\n<br />\n212 Main St.<br />\nCape Girardeau\, MO
LOCATION:
UID:e.1421.1817
SEQUENCE:3
DTSTAMP:20260423T155258Z
URL:https://business.capechamber.com/events/details/ward-title-insurance-agency-ribbon-cutting-1817
END:VEVENT

END:VCALENDAR
