BEGIN:VCALENDAR
VERSION:2.0
PRODID:-//ChamberMaster//Event Calendar 2.0//EN
METHOD:PUBLISH
X-PUBLISHED-TTL:P3D
REFRESH-INTERVAL:P3D
CALSCALE:GREGORIAN
BEGIN:VEVENT
DTSTART:20170820T210000Z
DTEND:20170820T230000Z
X-MICROSOFT-CDO-ALLDAYEVENT:FALSE
SUMMARY:Welcome Back Picnic
DESCRIPTION:Southeast Missouri State University would like to extend an invitation to your business to welcome new and returning students to the Cape Girardeau community.  The picnic is attended by upwards of 3\,500 Southeast students!\n\n \n\nIf your business or organization would benefit from promoting to University students\, please consider signing up today.  Visit http://semo.edu/nsp/forms/index.html to register. \n\n\n\nBOOTH SPACE IS LIMITED! Because you are a Chamber member\, there is NO COST to sign up for a booth. \n\n \n\nIf your business or organization has additional questions\, please contact Katie Foshee in New Student Programs at (573) 651-5166 or nsp@semo.edu
X-ALT-DESC;FMTTYPE=text/html:<span style="color:black"><span style="font-family:arial\,sans-serif">Southeast Missouri State University would like to extend an invitation to your business to welcome new and returning students to the Cape Girardeau community. &nbsp\;The picnic is attended by upwards of 3\,500 Southeast students!</span></span><br />\n&nbsp\;<br />\n<span style="font-family:arial\,sans-serif">If your business or organization would benefit from promoting to University students\, please consider signing up today. &nbsp\;<strong>Visit&nbsp\;</strong></span><strong>http://semo.edu/nsp/forms/index.html&nbsp\;to register.&nbsp\;</strong><br />\n<br />\n<strong><span style="color:black"><span style="font-family:arial\,sans-serif">BOOTH SPACE IS LIMITED!&nbsp\;</span></span></strong><span style="color:black"><span style="font-family:arial\,sans-serif">Because you are a Chamber member\, there is <strong><u>NO COST</u></strong> to sign up for a booth.&nbsp\;</span></span><br />\n&nbsp\;<br />\n<span style="color:black"><span style="font-family:arial\,sans-serif">If your business or organization has additional questions\, please contact Katie Foshee in New Student Programs at (573) 651-5166 or</span></span><span style="font-family:arial\,sans-serif">&nbsp\;nsp@semo.edu</span><br />\n&nbsp\;
LOCATION:Show Me Center
UID:e.1421.1771
SEQUENCE:3
DTSTAMP:20260423T112604Z
URL:https://business.capechamber.com/events/details/welcome-back-picnic-1771
END:VEVENT

END:VCALENDAR
