BEGIN:VCALENDAR
VERSION:2.0
PRODID:-//ChamberMaster//Event Calendar 2.0//EN
METHOD:PUBLISH
X-PUBLISHED-TTL:P3D
REFRESH-INTERVAL:P3D
CALSCALE:GREGORIAN
BEGIN:VEVENT
DTSTART:20181024T140000Z
DTEND:20181024T143000Z
X-MICROSOFT-CDO-ALLDAYEVENT:FALSE
SUMMARY:West Park Mall Ribbon Cutting
DESCRIPTION:Join us as we celebrate West Park Mall's remodel of their main entrance and the expansions that have taken place within the mall.
X-ALT-DESC;FMTTYPE=text/html:Join us as we celebrate West Park Mall&#39\;s remodel of their main entrance and the expansions that have taken place within the mall.&nbsp\;
LOCATION:3049 William Street Cape Girardeau\, MO
UID:e.1421.5671
SEQUENCE:3
DTSTAMP:20260424T090642Z
URL:https://business.capechamber.com/events/details/west-park-mall-ribbon-cutting-5671
END:VEVENT

END:VCALENDAR
