BEGIN:VCALENDAR
VERSION:2.0
PRODID:-//ChamberMaster//Event Calendar 2.0//EN
METHOD:PUBLISH
X-PUBLISHED-TTL:P3D
REFRESH-INTERVAL:P3D
CALSCALE:GREGORIAN
BEGIN:VEVENT
DTSTART:20260514T213000Z
DTEND:20260515T000000Z
X-MICROSOFT-CDO-ALLDAYEVENT:FALSE
SUMMARY:Women's Network Grip It & Close It: Golf & The Art of the Business Deal
DESCRIPTION:Grip It & Close It: Golf & the Art of the Business Deal\n\n\n\nDeals aren't just made in boardrooms they're often sealed on the golf course. Whether you've never picked up a club or you've always wanted to feel more confident saying "yes" to a golf outing\, this Women's Network program is designed for you.\nJoin us for an interactive evening where you'll learn the basics of golf and how to leverage the game as a powerful business tool. A local golf pro will walk you through proper stance\, swing\, and golf etiquette so you feel comfortable on the course. Then\, hear from a business leader on how golf can open doors\, build stronger relationships\, and help you close deals in a relaxed\, natural way.
X-ALT-DESC;FMTTYPE=text/html:<em><strong>Grip It &amp\; Close It: Golf &amp\; the Art of the Business Deal</strong></em><br />\n<br />\nDeals aren&rsquo\;t just made in boardrooms&mdash\;they&rsquo\;re often sealed on the golf course. Whether you&rsquo\;ve never picked up a club or you&rsquo\;ve always wanted to feel more confident saying &ldquo\;yes&rdquo\; to a golf outing\, this Women&rsquo\;s Network program is designed for you.\n<p data-end="816" data-start="419">Join us for an interactive evening where you&rsquo\;ll learn the basics of golf <em data-end="497" data-start="492">and</em> how to leverage the game as a powerful business tool. A local golf pro will walk you through proper stance\, swing\, and golf etiquette so you feel comfortable on the course. Then\, hear from a business leader on how golf can open doors\, build stronger relationships\, and help you close deals in a relaxed\, natural way.</p>\n
LOCATION:Dalhousie Golf Club 4700 Cords Way\, Cape Girardeau\, MO 63701
UID:e.1421.12436
SEQUENCE:3
DTSTAMP:20260420T223238Z
URL:https://business.capechamber.com/events/details/women-s-network-grip-it-close-it-golf-the-art-of-the-business-deal-12436
END:VEVENT

END:VCALENDAR
