BEGIN:VCALENDAR
VERSION:2.0
PRODID:-//ChamberMaster//Event Calendar 2.0//EN
METHOD:PUBLISH
X-PUBLISHED-TTL:P3D
REFRESH-INTERVAL:P3D
CALSCALE:GREGORIAN
BEGIN:VEVENT
DTSTART:20260113T173000Z
DTEND:20260113T190000Z
X-MICROSOFT-CDO-ALLDAYEVENT:FALSE
SUMMARY:Women's Network Luncheon
DESCRIPTION:Start your year with intention at Recharge & Realign: A Women's Guide to Sustainable Well-being\, a Women's Network event focused on resetting\, recharging\, and reclaiming balance in the middle of busy lives.\n\nJoin us for an empowering morning of conversation and connection featuring experts in women's health\, wellness\, nutrition\, and behavioral health. Together\, we'll explore practical ways to prioritize self-care\, manage stress\, and improve access to the services that support a healthy\, fulfilling lifestyle.\n\nThis event is designed to help you take a meaningful pause: one that energizes your mind\, body\, and purpose for the year ahead.
X-ALT-DESC;FMTTYPE=text/html:Start your year with intention at <b>Recharge &amp\; Realign:</b> <i>A Women&#39\;s Guide to Sustainable Well-being</i>\, a Women&rsquo\;s Network event focused on resetting\, recharging\, and reclaiming balance in the middle of busy lives.<br />\nJoin us for an empowering morning of conversation and connection featuring experts in women&rsquo\;s health\, wellness\, nutrition\, and behavioral health. Together\, we&rsquo\;ll explore practical ways to prioritize self-care\, manage stress\, and improve access to the services that support a healthy\, fulfilling lifestyle.<br />\nThis event is designed to help you take a meaningful pause: one that energizes your mind\, body\, and purpose for the year ahead.<br />\n&nbsp\;
LOCATION:Midamerica Hotels Corporation 4072 St. Hwy K Cape Girardeau\, MO 63701
UID:e.1421.12404
SEQUENCE:3
DTSTAMP:20260424T184718Z
URL:https://business.capechamber.com/events/details/women-s-network-luncheon-12404
END:VEVENT

END:VCALENDAR
