BEGIN:VCALENDAR
VERSION:2.0
PRODID:-//ChamberMaster//Event Calendar 2.0//EN
METHOD:PUBLISH
X-PUBLISHED-TTL:P3D
REFRESH-INTERVAL:P3D
CALSCALE:GREGORIAN
BEGIN:VEVENT
DTSTART:20171214T130000Z
DTEND:20171214T140000Z
X-MICROSOFT-CDO-ALLDAYEVENT:FALSE
SUMMARY:Women's Network Morning Coffee
DESCRIPTION:Join the Cape Chamber Women's Network for a little networking before heading to the office and get your caffeine fix while you're at it!\n\n\n\nNo fee to attend. Complimentary coffee will offered. Other items will be available for purchase. \n\n\n\nThank you to our 2017 Women's Network Sponsors:\n\nAmerican Family Insurance\, Laurel Adkisson\n\nBOLD Marketing\n\nBug Zero \n\nFirst Midwest Bank\n\nFlourish Magazine\n\nHudson Chiropractic \n\nSouthern Bank \n\nThe Bank of Missouri\n\nThe Limbaugh Firm\n\nUnited Rentals \n\nZonta Club of Cape Girardeau
X-ALT-DESC;FMTTYPE=text/html:Join the Cape Chamber Women&#39\;s Network for a little networking before heading to the office and get your caffeine fix while you&#39\;re at it!<br />\n<br />\nNo fee to attend. Complimentary coffee will offered. Other items will be available for purchase.&nbsp\;<br />\n<br font-size:="" style="color: rgb(51\, 51\, 51)\; font-family: sans-serif\, Arial\, Verdana\, " trebuchet="" />\n<u font-size:="" style="color: rgb(51\, 51\, 51)\; font-family: sans-serif\, Arial\, Verdana\, " trebuchet=""><strong>Thank you to our 2017 Women&#39\;s Network Sponsors:</strong></u><br font-size:="" style="color: rgb(51\, 51\, 51)\; font-family: sans-serif\, Arial\, Verdana\, " trebuchet="" />\n<span style="font-size:14px\;"><span style="font-family:arial\;"><a href="https://agent.amfam.com/laurel-adkisson/mo/cape-girardeau/760-s-kingshighway-st/" target="_blank"><span style="background-color: rgb(255\, 255\, 255)\;">American Family Insurance\, Laurel&nbsp\;</span>Adkisson</a><br font-size:="" style="color: rgb(51\, 51\, 51)\; font-family: sans-serif\, Arial\, Verdana\, " trebuchet="" />\n<a href="http://www.getboldmarketing.com/" target="_blank"><span style="background-color: rgb(255\, 255\, 255)\;">BOLD Marketing</span></a><br font-size:="" style="color: rgb(51\, 51\, 51)\; font-family: sans-serif\, Arial\, Verdana\, " trebuchet="" />\n<a href="http://www.bugzero.com/"><span style="background-color: rgb(255\, 255\, 255)\;">Bug </span></a><span style="background-color: rgb(255\, 255\, 255)\;"><a href="http://www.bugzero.com/">Zero</a></span><a href="http://www.bugzero.com/"><span style="background-color: rgb(255\, 255\, 255)\;">&nbsp\;</span></a><br />\n<a href="https://www.onemidwest.com/" target="_blank"><span style="background-color: rgb(255\, 255\, 255)\;">First</span><span style="background-color: rgb(255\, 255\, 255)\;"> Midwest Bank</span></a><br font-size:="" style="color: rgb(51\, 51\, 51)\; font-family: sans-serif\, Arial\, Verdana\, " trebuchet="" />\n<a href="http://www.semissourian.com/flourish" target="_blank"><span style="background-color: rgb(255\, 255\, 255)\;">Flourish Magazine</span></a><br font-size:="" style="color: rgb(51\, 51\, 51)\; font-family: sans-serif\, Arial\, Verdana\, " trebuchet="" />\n<span style="background-color: rgb(255\, 255\, 255)\;"><a href="http://www.hudsonchirocape.com/" target="_blank">Hudson Chiropractic&nbsp\;</a><br />\n<a href="https://www.bankwithsouthern.com/" target="_blank">Southern Bank&nbsp\;</a></span><br font-size:="" style="color: rgb(51\, 51\, 51)\; font-family: sans-serif\, Arial\, Verdana\, " trebuchet="" />\n<a href="https://www.bankofmissouri.com/" target="_blank"><span style="background-color: rgb(255\, 255\, 255)\;">The Bank of Missouri</span></a><br font-size:="" style="color: rgb(51\, 51\, 51)\; font-family: sans-serif\, Arial\, Verdana\, " trebuchet="" />\n<a href="http://www.limbaughlaw.com/" target="_blank"><span style="background-color: rgb(255\, 255\, 255)\;">The Limbaugh Firm</span></a><br font-size:="" style="color: rgb(51\, 51\, 51)\; font-family: sans-serif\, Arial\, Verdana\, " trebuchet="" />\n<span style="background-color: rgb(255\, 255\, 255)\;"><a href="https://www.unitedrentals.com/" target="_blank">United Rentals</a></span><a href="https://www.unitedrentals.com/"><span style="background-color: rgb(255\, 255\, 255)\;">&nbsp\;</span></a><br font-size:="" style="color: rgb(51\, 51\, 51)\; font-family: sans-serif\, Arial\, Verdana\, " trebuchet="" />\n<a href="https://capezonta.org/" target="_blank">Zonta<span style="background-color: rgb(255\, 255\, 255)\;">&nbsp\;C</span><span style="background-color: rgb(255\, 255\, 255)\;">lub of Cape&nbsp\;</span>Girardeau<span style="background-color: rgb(255\, 255\, 255)\;">&nbsp\;</span></a></span></span>
LOCATION:STA Cafe 820 N. Sprigg Street\, Suite 3 Cape Girardeau\, MO 63701
UID:e.1421.1821
SEQUENCE:3
DTSTAMP:20260423T191922Z
URL:https://business.capechamber.com/events/details/women-s-network-morning-coffee-1821
END:VEVENT

END:VCALENDAR
