BEGIN:VCALENDAR
VERSION:2.0
PRODID:-//ChamberMaster//Event Calendar 2.0//EN
METHOD:PUBLISH
X-PUBLISHED-TTL:P3D
REFRESH-INTERVAL:P3D
CALSCALE:GREGORIAN
BEGIN:VEVENT
DTSTART:20170622T120000Z
DTEND:20170622T130000Z
X-MICROSOFT-CDO-ALLDAYEVENT:FALSE
SUMMARY:Women's Network Morning Coffee
DESCRIPTION:Join the Cape Chamber Women's Network for a cup of coffee and networking before heading into the office.
X-ALT-DESC;FMTTYPE=text/html:Join the Cape Chamber Women&#39\;s Network for a cup of coffee and networking before heading into the office. &nbsp\;
LOCATION:Marquette Lobby 338 Broadway Cape Girardeau
UID:e.1421.749
SEQUENCE:3
DTSTAMP:20260423T100334Z
URL:https://business.capechamber.com/events/details/women-s-network-morning-coffee-749
END:VEVENT

END:VCALENDAR
