BEGIN:VCALENDAR
VERSION:2.0
PRODID:-//ChamberMaster//Event Calendar 2.0//EN
METHOD:PUBLISH
X-PUBLISHED-TTL:P3D
REFRESH-INTERVAL:P3D
CALSCALE:GREGORIAN
BEGIN:VEVENT
DTSTART:20260409T213000Z
DTEND:20260409T233000Z
X-MICROSOFT-CDO-ALLDAYEVENT:FALSE
SUMMARY:Women's Network Open Social
DESCRIPTION:Join the Cape Chamber Women's Network for a fun and casual evening of networking at Busch Pet Products! This open social is the perfect opportunity to connect with other professionals in a relaxed atmosphere while supporting a local business. Tropical Smoothie Cafe and SEMO Pets will be there with tails and treats!\n\nWe're excited to welcome Southeast Missouri Pets\, who will be on site with some of their adorable adoptable animals. Come mingle\, make new connections\, shop for your furry friends\, and maybe even meet your next four-legged family member.\n\n\n\n\n**Chamber Members Only - registration required**
X-ALT-DESC;FMTTYPE=text/html:<p data-end="360" data-start="114">Join the Cape Chamber Women&rsquo\;s Network for a fun and casual evening of networking at <strong data-end="218" data-start="198">Busch Pet Products</strong>! This open social is the perfect opportunity to connect with other professionals in a relaxed atmosphere while supporting a local business. Tropical Smoothie Cafe and SEMO Pets will be there with tails and treats!</p>\n\n<p data-end="591" data-start="362">We&rsquo\;re excited to welcome <strong data-end="400" data-start="387">Southeast Missouri Pets</strong>\, who will be on site with some of their adorable adoptable animals. Come mingle\, make new connections\, shop for your furry friends\, and maybe even meet your next four-legged family member.</p>\n<br />\n<br />\n<em><strong><span style="background-color: rgb(255\, 255\, 0)\;">**Chamber Members Only - registration required**</span></strong></em>
LOCATION:Busch Pet Products 2031 Cape La Croix Rd Suite 106 Cape Girardeau\, MO 63701 Busch Pet Products
UID:e.1421.12410
SEQUENCE:3
DTSTAMP:20260424T170930Z
URL:https://business.capechamber.com/events/details/women-s-network-open-social-12410
END:VEVENT

END:VCALENDAR
