BEGIN:VCALENDAR
VERSION:2.0
PRODID:-//ChamberMaster//Event Calendar 2.0//EN
METHOD:PUBLISH
X-PUBLISHED-TTL:P3D
REFRESH-INTERVAL:P3D
CALSCALE:GREGORIAN
BEGIN:VEVENT
DTSTART:20260611T213000Z
DTEND:20260611T233000Z
X-MICROSOFT-CDO-ALLDAYEVENT:FALSE
SUMMARY:Women's Network Open Social
DESCRIPTION:Get ready for a night of fun\, laughter\, and friendly competition! The Cape Chamber Women's Network invites you to an Open Social at The Pickleball Factory\, where connection meets court time.\n\nWhether you're a seasoned pro or have never picked up a paddle\, this casual evening is all about having a good time and meeting new faces. Enjoy light snacks\, great conversation\, and a few rounds of pickleball with fellow Women's Network members and guests. Victoria's Creamery will also be there with delicious samples to enjoy throughout the evening.\n\nCome dressed for play or just come to socialize and cheer on others!\n\n\n\n****Chamber Members Only****
X-ALT-DESC;FMTTYPE=text/html:<p data-end="257" data-start="67">Get ready for a night of fun\, laughter\, and friendly competition! The Cape Chamber Women&rsquo\;s Network invites you to an Open Social at The Pickleball Factory\, where connection meets court time.</p>\n\n<p data-end="611" data-start="259">Whether you&rsquo\;re a seasoned pro or have never picked up a paddle\, this casual evening is all about having a good time and meeting new faces. Enjoy light snacks\, great conversation\, and a few rounds of pickleball with fellow Women&rsquo\;s Network members and guests. Victoria&rsquo\;s Creamery will also be there with delicious samples to enjoy throughout the evening.</p>\n\n<p data-end="681" data-is-last-node="" data-is-only-node="" data-start="613">Come dressed for play or just come to socialize and cheer on others!<br />\n<br />\n<em><span style="background-color:#FFFF00\;">****Chamber Members Only****</span></em></p>\n
LOCATION:The Pickleball Factory 1507 Independence St Cape Girardeau\, MO 63701
UID:e.1421.12438
SEQUENCE:3
DTSTAMP:20260424T184724Z
URL:https://business.capechamber.com/events/details/women-s-network-open-social-12438
END:VEVENT

END:VCALENDAR
