BEGIN:VCALENDAR
VERSION:2.0
PRODID:-//ChamberMaster//Event Calendar 2.0//EN
METHOD:PUBLISH
X-PUBLISHED-TTL:P3D
REFRESH-INTERVAL:P3D
CALSCALE:GREGORIAN
BEGIN:VEVENT
DTSTART:20260813T213000Z
DTEND:20260813T233000Z
X-MICROSOFT-CDO-ALLDAYEVENT:FALSE
SUMMARY:Women's Network Open Social
DESCRIPTION:Kaftans & Cocktails\n\n\n\nSlip into something stylish and join us for a vibrant evening of connection\, conversation\, and community at Spectrum Record Lounge. Our Kaftans & Cocktails Open Social is all about relaxing in style while expanding your network. Enjoy handcrafted cocktails\, the laid-back atmosphere of vinyl records spinning\, and the chance to mix and mingle with fellow Women's Network members and guests. Whether you come dressed in your favorite kaftan or just ready to unwind\, this event is the perfect blend of fun and fellowship.\n\n\n\n**Chamber Members Only - registration required**
X-ALT-DESC;FMTTYPE=text/html:<span style="font-size:18px\;"><strong><em>Kaftans &amp\; Cocktails</em></strong></span><br />\n<br />\nSlip into something stylish and join us for a vibrant evening of connection\, conversation\, and community at Spectrum Record Lounge. Our Kaftans &amp\; Cocktails Open Social is all about relaxing in style while expanding your network. Enjoy handcrafted cocktails\, the laid-back atmosphere of vinyl records spinning\, and the chance to mix and mingle with fellow Women&rsquo\;s Network members and guests. Whether you come dressed in your favorite kaftan or just ready to unwind\, this event is the perfect blend of fun and fellowship.<br />\n<br />\n<em><strong><span style="background-color: rgb(255\, 255\, 0)\;">**Chamber Members Only - registration required**</span></strong></em>
LOCATION:Spectrum Record Lounge 113 Broadway Cape Girardeau\, MO 63701
UID:e.1421.12443
SEQUENCE:3
DTSTAMP:20260424T215321Z
URL:https://business.capechamber.com/events/details/women-s-network-open-social-12443
END:VEVENT

END:VCALENDAR
