BEGIN:VCALENDAR
VERSION:2.0
PRODID:-//ChamberMaster//Event Calendar 2.0//EN
METHOD:PUBLISH
X-PUBLISHED-TTL:P3D
REFRESH-INTERVAL:P3D
CALSCALE:GREGORIAN
BEGIN:VEVENT
DTSTART:20261210T223000Z
DTEND:20261211T003000Z
X-MICROSOFT-CDO-ALLDAYEVENT:FALSE
SUMMARY:Women's Network Open Social
DESCRIPTION:**Chamber Members Only - registration required**
X-ALT-DESC;FMTTYPE=text/html:<em><strong><span style="background-color: rgb(255\, 255\, 0)\;">**Chamber Members Only - registration required**</span></strong></em>
LOCATION:Magnolia Soap and Bath Co. 440 S. Mt Auburn Rd\, Suite 108 Cape Girardeau\, MO 63703
UID:e.1421.12457
SEQUENCE:3
DTSTAMP:20260425T011215Z
URL:https://business.capechamber.com/events/details/women-s-network-open-social-12457
END:VEVENT

END:VCALENDAR
