BEGIN:VCALENDAR
VERSION:2.0
PRODID:-//ChamberMaster//Event Calendar 2.0//EN
METHOD:PUBLISH
X-PUBLISHED-TTL:P3D
REFRESH-INTERVAL:P3D
CALSCALE:GREGORIAN
BEGIN:VEVENT
DTSTART:20180208T223000Z
DTEND:20180209T000000Z
X-MICROSOFT-CDO-ALLDAYEVENT:FALSE
SUMMARY:Women's Network Power Hour and Speed Networking
DESCRIPTION:Join us for networking with a twist\, Speed Networking.  Attendees will have the opportunity to meet everyone in the room.  Complimentary appetizers and cash bar will be available. \n\n\n\nThank you to our 2018 Women's Network Sponsors\n\n1st Class Travel \n\nAmerican Family Insurance - Laurel Adkisson \n\nAT&T\n\nBanterra \n\nBug Zero \n\nBuzzi Unicem USA\n\nFlourish Magazine \n\nShooter's Gun Shop \n\nThe Limbaugh Firm \n\nUnited Rentals\n\nDr. Quantella Noto
X-ALT-DESC;FMTTYPE=text/html:Join us for networking with a twist\, Speed Networking.&nbsp\; Attendees will have the opportunity to meet everyone in the room.&nbsp\; Complimentary appetizers and cash bar will be available.&nbsp\;<br />\n<br />\n<u><strong>Thank you to our 2018 Women&#39\;s Network Sponsors</strong></u><br />\n<a href="http://www.gofirstclasstravel.com" target="_blank">1st Class Travel&nbsp\;</a><br />\n<a href="http://agent.amfam.com/laurel-adkisson/mo/cape-girardeau/760-s-kingshighway-st/" target="_blank">American Family Insurance - Laurel Adkisson&nbsp\;</a><br />\n<a href="http://att.com" target="_blank">AT&amp\;T</a><br />\n<a href="http://banterra.com" target="_blank">Banterra&nbsp\;</a><br />\n<a href="http://bugzero.com" target="_blank">Bug Zero&nbsp\;</a><br />\n<a href="http://buzziunicemusa.com" target="_blank">Buzzi Unicem USA</a><br />\n<a href="http://semissourian.com/flourish" target="_blank">Flourish Magazine&nbsp\;</a><br />\n<a href="http://shootersincape.com" target="_blank">Shooter&#39\;s Gun Shop</a>&nbsp\;<br />\n<a href="http://limbaughlaw.com" target="_blank">The Limbaugh Firm&nbsp\;</a><br />\n<a href="http://www.unitedrentals.com/locations/mo/cape-girardeau/equipment-tool-rentals/J41?utm_source=google&amp\;utm_medium=distrib&amp\;utm_campaign=google-distrib" target="_blank">United Rentals</a><br />\nDr. Quantella Noto&nbsp\;
LOCATION:Wehking Alumni Center 926 Broadway Cape Girardeau
UID:e.1421.1838
SEQUENCE:3
DTSTAMP:20260423T210032Z
URL:https://business.capechamber.com/events/details/women-s-network-power-hour-and-speed-networking-1838
END:VEVENT

END:VCALENDAR
