BEGIN:VCALENDAR
VERSION:2.0
PRODID:-//ChamberMaster//Event Calendar 2.0//EN
METHOD:PUBLISH
X-PUBLISHED-TTL:P3D
REFRESH-INTERVAL:P3D
CALSCALE:GREGORIAN
BEGIN:VEVENT
DTSTART:20260312T220000Z
DTEND:20260313T000000Z
X-MICROSOFT-CDO-ALLDAYEVENT:FALSE
SUMMARY:Women's Network Program
DESCRIPTION:The Perfect Pair: Leadership\, Personalities & Cheese\n\n \n\nJoin the Women's Network for a unique evening that blends the richness of artisan cheese with the richness of leadership. During this guided tasting\, you'll sample a curated selection of cheeses each paired with thoughtful insights into leadership styles\, collaboration\, and personal growth.\n\n\n\nDoors open at 5pm. Program starts at 5:30pm.
X-ALT-DESC;FMTTYPE=text/html:<span style="font-size:16px\;"><em><strong><span style="font-family:aptos\,sans-serif\;">The Perfect Pair: Leadership\, Personalities &amp\; Cheese<br />\n&nbsp\;</span></strong></em><br />\nJoin the Women&rsquo\;s Network for a unique evening that blends the richness of artisan cheese with the richness of leadership. During this guided tasting\, you&rsquo\;ll sample a curated selection of cheeses&mdash\;each paired with thoughtful insights into leadership styles\, collaboration\, and personal growth.<br />\n<br />\n<strong>Doors open at 5pm. Program starts at 5:30pm.&nbsp\;</strong></span>
LOCATION:Celebrations Downtown 19 S. Spanish St Cape Girardeau\, MO 63703
UID:e.1421.12406
SEQUENCE:3
DTSTAMP:20260424T135403Z
URL:https://business.capechamber.com/events/details/women-s-network-program-12406
END:VEVENT

END:VCALENDAR
