BEGIN:VCALENDAR
VERSION:2.0
PRODID:-//ChamberMaster//Event Calendar 2.0//EN
METHOD:PUBLISH
X-PUBLISHED-TTL:P3D
REFRESH-INTERVAL:P3D
CALSCALE:GREGORIAN
BEGIN:VEVENT
DTSTART:20260716T213000Z
DTEND:20260716T233000Z
X-MICROSOFT-CDO-ALLDAYEVENT:FALSE
SUMMARY:Women's Network Program
DESCRIPTION:Helpy Hour: Serve + Socialize\n\nGive back\, then kick back! Join the Women's Network for our very first Helpy Hour\, where we combine community service with networking and fun.\n\n\n\nWe'll start the evening at the SEMO Food Bank\, rolling up our sleeves to help fight hunger in our region. After volunteering together\, we'll head out for a casual happy hour to relax\, connect\, and celebrate making a difference. This is the perfect way to bond with fellow members\, give back to the community\, and enjoy some well-earned social time afterward.
X-ALT-DESC;FMTTYPE=text/html:<span style="font-size:16px\;"><em><strong>Helpy Hour: Serve + Socialize</strong></em></span>\n\n<p data-end="260" data-start="112">Give back\, then kick back! Join the Women&rsquo\;s Network for our very first <strong data-end="197" data-start="183">Helpy Hour</strong>\, where we combine community service with networking and fun.<br />\n<br />\nWe&rsquo\;ll start the evening at the <strong data-end="311" data-start="293">SEMO Food Bank</strong>\, rolling up our sleeves to help fight hunger in our region. After volunteering together\, we&rsquo\;ll head out for a casual <strong data-end="443" data-start="429">happy hour</strong> to relax\, connect\, and celebrate making a difference. This is the perfect way to bond with fellow members\, give back to the community\, and enjoy some well-earned social time afterward.</p>\n
LOCATION:Southeast Missouri Food Bank 4536 E Jackson Blvd Jackson\, MO 63755
UID:e.1421.12442
SEQUENCE:3
DTSTAMP:20260424T201550Z
URL:https://business.capechamber.com/events/details/women-s-network-program-12442
END:VEVENT

END:VCALENDAR
