BEGIN:VCALENDAR
VERSION:2.0
PRODID:-//ChamberMaster//Event Calendar 2.0//EN
METHOD:PUBLISH
X-PUBLISHED-TTL:P3D
REFRESH-INTERVAL:P3D
CALSCALE:GREGORIAN
BEGIN:VEVENT
DTSTART:20170803T163000Z
DTEND:20170803T180000Z
X-MICROSOFT-CDO-ALLDAYEVENT:FALSE
SUMMARY:Women's Network Speaker Series Luncheon
DESCRIPTION:Our guest speaker\, Dr. Margie Vandeven was appointed Missouri's sixth Commissioner of Education by the State Board of Education in December 2014\, and assumed her role Jan. 1\, 2015. Dr. Vandeven will share her personal goals\, mentors along the way and accomplishments in education that positioned her to be appointed as the Commissioner.  \n\n \n\nFor Dr. Vandeven's full bio\, visit Missouri's Department of Elementary & Secondary Education's website. \n\n\n\n*Registration is required to attend.  Cost of $25 per attendee includes lunch.
X-ALT-DESC;FMTTYPE=text/html:<p style="margin: 0px 0px 14px\; padding: 0px\; border: 0px\; outline: 0px\; vertical-align: baseline\; font-variant-numeric: inherit\; font-stretch: inherit\; font-size: 14px\; line-height: inherit\; font-family: Tahoma\, Geneva\, sans-serif\; color: rgb(68\, 68\, 68)\; background-color: rgb(255\, 255\, 255)\;"><span style="border:none windowtext 1.0pt\;padding:0in\;"><span style="color:#444444\;"><span style="font-family:calibri light\,sans-serif\;"><span style="font-size:14.0pt\;">Our guest speaker\, Dr. Margie&nbsp\;</span></span></span></span><span style="color:#444444\;"><span style="font-family:calibri light\,sans-serif\;"><span style="font-size:14.0pt\;"><span data-scayt-lang="en_US" data-scayt-word="Vandeven" style="background-position:52% 100%\;">Vandeven</span></span></span></span><span style="border:none windowtext 1.0pt\;padding:0in\;"><span style="color:#444444\;"><span style="font-family:calibri light\,sans-serif\;"><span style="font-size:14.0pt\;"><span style="font-style:inherit\;font-variant:inherit\;font-weight:inherit\;outline:0px\;font-stretch:inherit\;"><span style="font-size:inherit\;">&nbsp\;was appointed Missouri&rsquo\;s sixth Commissioner of Education by the State Board of Education in December 2014\, and assumed her role Jan. 1\, 2015.&nbsp\;</span></span></span></span></span></span><span style="background-image:initial\;background-position:initial\;background-size:initial\;background-repeat:initial\;background-attachment:initial\;background-origin:initial\;background-clip:initial\;"><span style="color:#444444\;"><span style="font-family:calibri light\,sans-serif\;"><span style="font-size:14pt\;">Dr.&nbsp\;</span></span></span></span><span style="color:#444444\;"><span style="font-family:calibri light\,sans-serif\;"><span style="font-size:14.0pt\;"><span data-scayt-lang="en_US" data-scayt-word="Vandeven" style="background-position:52% 100%\;">Vandeven</span></span></span></span><span style="background-image:initial\;background-position:initial\;background-size:initial\;background-repeat:initial\;background-attachment:initial\;background-origin:initial\;background-clip:initial\;"><span style="color:#444444\;"><span style="font-family:calibri light\,sans-serif\;"><span style="font-size:14pt\;">&nbsp\;will share her personal goals\, mentors along the way and accomplishments in education that positioned her to be appointed as the Commissioner. &nbsp\;</span></span></span></span><br />\n&nbsp\;<br />\n<span style="background-image:initial\;background-position:initial\;background-size:initial\;background-repeat:initial\;background-attachment:initial\;background-origin:initial\;background-clip:initial\;"><span style="color:#444444\;"><span style="font-family:calibri light\,sans-serif\;"><span style="font-size:14pt\;">For Dr. Vandeven&rsquo\;s full bio\, visit Missouri&rsquo\;s Department of Elementary &amp\; Secondary Education&rsquo\;s <a href="https://dese.mo.gov/state-board-education/commissioner/about-commissioner-education">website</a>.&nbsp\;</span></span></span></span><br />\n<br />\n<span style="color: rgb(68\, 68\, 68)\; font-family: &quot\;calibri light&quot\;\, sans-serif\; font-size: 18.6667px\;">*Registration is required to attend. &nbsp\;Cost of $25 per attendee&nbsp\;includes lunch.&nbsp\;</span><br />\n&nbsp\;</p>\n
LOCATION:Ray's Plaza Banquet Center 3257 William St. Cape Girardeau\, MO
UID:e.1421.1761
SEQUENCE:3
DTSTAMP:20260423T112804Z
URL:https://business.capechamber.com/events/details/women-s-network-speaker-series-luncheon-1761
END:VEVENT

END:VCALENDAR
