BEGIN:VCALENDAR
VERSION:2.0
PRODID:-//ChamberMaster//Event Calendar 2.0//EN
METHOD:PUBLISH
X-PUBLISHED-TTL:P3D
REFRESH-INTERVAL:P3D
CALSCALE:GREGORIAN
BEGIN:VEVENT
DTSTART:20180712T163000Z
DTEND:20180712T180000Z
X-MICROSOFT-CDO-ALLDAYEVENT:FALSE
SUMMARY:Women's Network Speaker Series Luncheon
DESCRIPTION:United Rentals National Account Manager\, Shawna Ermold Gillis will be our guest speaker.  \n\n\n\nRegistration cost is $25 per person and is required.  Register early as seating will be limited. \n\nLunch will be served buffet-style and will offer a salad bar and loaded baked potato bar.  \n\nFor more information about Women's Network events\, contact Kim Voelker or visit our Facebook group page. \n\n\n\nThank you to our 2018 Women's Network Sponsors\n\n1st Class Travel \n\nAmerican Family Insurance - Laurel Adkisson \n\nAT&T\n\nBanterra \n\nBug Zero \n\nBuzzi Unicem USA\n\nFlourish Magazine \n\nSaint Francis Healthcare\n\nShooter's Gun Shop \n\nThe Limbaugh Firm \n\nUnited Rentals\n\nZonta Club of Cape Girardeau \n\nDr. Quantella Noto
X-ALT-DESC;FMTTYPE=text/html:United Rentals National Account Manager\, Shawna Ermold Gillis will be our guest speaker.&nbsp\;&nbsp\;<br />\n<br />\nRegistration cost is $25 per person and is required.&nbsp\; Register early as seating will be limited.&nbsp\;<br />\nLunch will be served buffet-style and will offer a salad bar and loaded baked potato bar.&nbsp\;&nbsp\;<br />\nFor more information about Women&#39\;s Network events\, contact <a href="mailto:kvoelker@capechamber.com?subject=Women's%20Network%20">Kim Voelker&nbsp\;</a>or visit our <a href="http://www.facebook.com/groups/capewomensnetwork" target="_blank">Facebook group page</a><a href="http://www.facebook.com/groups/capewomensnetwork" target="_blank">.</a>&nbsp\;<br />\n<br />\n<u font-size:="" style="color: rgb(51\, 51\, 51)\; font-family: sans-serif\, Arial\, Verdana\, " trebuchet=""><strong>Thank you to our 2018 Women&#39\;s Network Sponsors</strong></u><br font-size:="" style="color: rgb(51\, 51\, 51)\; font-family: sans-serif\, Arial\, Verdana\, " trebuchet="" />\n<span style="font-size:14px\;"><span style="font-family:arial\;"><a font-size:="" href="http://www.gofirstclasstravel.com" style="color: rgb(7\, 130\, 193)\; font-family: sans-serif\, Arial\, Verdana\, " target="_blank" trebuchet=""><span style="color:#008000\;">1st&nbsp\;Class Travel&nbsp\;</span></a><br font-size:="" style="color: rgb(51\, 51\, 51)\; font-family: sans-serif\, Arial\, Verdana\, " trebuchet="" />\n<a font-size:="" href="http://agent.amfam.com/laurel-adkisson/mo/cape-girardeau/760-s-kingshighway-st/" style="color: rgb(7\, 130\, 193)\; font-family: sans-serif\, Arial\, Verdana\, " target="_blank" trebuchet=""><span style="color:#008000\;">American Family Insurance - Laurel&nbsp\;Adkisson&nbsp\;</span></a><br font-size:="" style="color: rgb(51\, 51\, 51)\; font-family: sans-serif\, Arial\, Verdana\, " trebuchet="" />\n<a font-size:="" href="http://att.com" style="color: rgb(7\, 130\, 193)\; font-family: sans-serif\, Arial\, Verdana\, " target="_blank" trebuchet=""><span style="color:#008000\;">AT&amp\;T</span></a><br font-size:="" style="color: rgb(51\, 51\, 51)\; font-family: sans-serif\, Arial\, Verdana\, " trebuchet="" />\n<a font-size:="" href="http://banterra.com" style="color: rgb(7\, 130\, 193)\; font-family: sans-serif\, Arial\, Verdana\, " target="_blank" trebuchet=""><span style="color:#008000\;">Banterra&nbsp\;</span></a><br font-size:="" style="color: rgb(51\, 51\, 51)\; font-family: sans-serif\, Arial\, Verdana\, " trebuchet="" />\n<a font-size:="" href="http://bugzero.com" style="color: rgb(7\, 130\, 193)\; font-family: sans-serif\, Arial\, Verdana\, " target="_blank" trebuchet=""><span style="color:#008000\;">Bug Zero&nbsp\;</span></a><br font-size:="" style="color: rgb(51\, 51\, 51)\; font-family: sans-serif\, Arial\, Verdana\, " trebuchet="" />\n<a font-size:="" href="http://buzziunicemusa.com" style="color: rgb(7\, 130\, 193)\; font-family: sans-serif\, Arial\, Verdana\, " target="_blank" trebuchet=""><span style="color:#008000\;">Buzzi&nbsp\;Unicem&nbsp\;USA</span></a><br font-size:="" style="color: rgb(51\, 51\, 51)\; font-family: sans-serif\, Arial\, Verdana\, " trebuchet="" />\n<a font-size:="" href="http://semissourian.com/flourish" style="color: rgb(7\, 130\, 193)\; font-family: sans-serif\, Arial\, Verdana\, " target="_blank" trebuchet=""><span style="color:#008000\;">Flourish Magazine&nbsp\;</span></a><br />\n<a href="http://sfmc.net" target="_blank"><span style="color:#008000\;">Saint Francis Healthcare</span></a><br font-size:="" style="color: rgb(51\, 51\, 51)\; font-family: sans-serif\, Arial\, Verdana\, " trebuchet="" />\n<a font-size:="" href="http://shootersincape.com" style="color: rgb(7\, 130\, 193)\; font-family: sans-serif\, Arial\, Verdana\, " target="_blank" trebuchet=""><span style="color:#008000\;">Shooter&#39\;s Gun Shop</span></a><span style="color:#008000\;"><span background-color:="" font-size:="" trebuchet="">&nbsp\;</span></span><br font-size:="" style="color: rgb(51\, 51\, 51)\; font-family: sans-serif\, Arial\, Verdana\, " trebuchet="" />\n<a font-size:="" href="http://limbaughlaw.com" style="color: rgb(7\, 130\, 193)\; font-family: sans-serif\, Arial\, Verdana\, " target="_blank" trebuchet=""><span style="color:#008000\;">The Limbaugh Firm&nbsp\;</span></a><br font-size:="" style="color: rgb(51\, 51\, 51)\; font-family: sans-serif\, Arial\, Verdana\, " trebuchet="" />\n<a font-size:="" href="http://www.unitedrentals.com/locations/mo/cape-girardeau/equipment-tool-rentals/J41?utm_source=google&amp\;utm_medium=distrib&amp\;utm_campaign=google-distrib" style="color: rgb(7\, 130\, 193)\; font-family: sans-serif\, Arial\, Verdana\, " target="_blank" trebuchet=""><span style="color:#008000\;">United Rentals</span></a><br />\n<a href="http://capezonta.org/" target="_blank"><span style="color:#008000\;">Zonta Club of Cape Girardeau</span></a><span style="color:#008000\;">&nbsp\;</span><br />\n<span style="color:#008000\;">Dr. Quantella Noto&nbsp\;</span></span></span>
LOCATION:Isle Casino Event Center 777 North Main St. Cape Girardeau\, MO
UID:e.1421.1839
SEQUENCE:3
DTSTAMP:20260424T060126Z
URL:https://business.capechamber.com/events/details/women-s-network-speaker-series-luncheon-1839
END:VEVENT

END:VCALENDAR
