BEGIN:VCALENDAR
VERSION:2.0
PRODID:-//ChamberMaster//Event Calendar 2.0//EN
METHOD:PUBLISH
X-PUBLISHED-TTL:P3D
REFRESH-INTERVAL:P3D
CALSCALE:GREGORIAN
BEGIN:VEVENT
DTSTART:20200312T163000Z
DTEND:20200312T180000Z
X-MICROSOFT-CDO-ALLDAYEVENT:FALSE
SUMMARY:Women's Network Workshop - SCAMS!
DESCRIPTION:Women across the US are targeted by fraudsters everyday. Though women are more likely to send money to a scammer they often lose less than men. BBB will explore the top scams targeting women in our area\, from romance scams to online shopping\, from employment scams to fake pets for sale online.  We welcome you to join us in learning how these scams operate as well as picking up many tips to help protect you and your loved ones. \n\n\n\nPresented by Whitney Quick\, Regional Director\, Better Business Bureau \n\n\n\nThank you to our 2020 Women's Network Sponsors\n\n1st Class Travel\n\nAmerican Family Insurance - Laurel Adkisson\n\nBanterra Bank \n\nBug Zero\n\nDogwood Social House\n\nElite Travel\, Inc. \n\nFlourish Magazine\n\nFresh Healthy Cafe\n\nPC Wellness Centers\n\nThe Limbaugh Firm\n\nUnited Rentals
X-ALT-DESC;FMTTYPE=text/html:<span style="font-family:verdana\,sans-serif\;">Women across the US are targeted by fraudsters everyday. Though women are more likely to send money to a scammer they often lose less than men. BBB will explore the top scams targeting women in our area\, from romance scams to online shopping\, from employment scams to fake pets for sale online.&nbsp\; We welcome you to join us in learning how these scams operate as well as picking up many tips to help&nbsp\;protect you and your loved ones.&nbsp\;<br />\n<br />\nPresented by Whitney Quick\, Regional Director\, Better Business Bureau&nbsp\;</span><br />\n<br />\n<u style="color: rgb(51\, 51\, 51)\; font-family: sans-serif\, Arial\, Verdana\, &quot\;Trebuchet MS&quot\;\; font-size: 13px\;"><strong>Thank you to our 2020 Women&#39\;s Network Sponsors</strong></u><br style="color: rgb(51\, 51\, 51)\; font-family: sans-serif\, Arial\, Verdana\, &quot\;Trebuchet MS&quot\;\; font-size: 13px\;" />\n<span style="font-size:12px\;"><a href="http://gofirstclasstravel.com/" style="color: rgb(7\, 130\, 193)\; font-family: sans-serif\, Arial\, Verdana\, &quot\;Trebuchet MS&quot\;\; font-size: 13px\;" target="_blank"><span style="color:#006400\;">1st Class Travel</span></a><br style="color: rgb(51\, 51\, 51)\; font-family: sans-serif\, Arial\, Verdana\, &quot\;Trebuchet MS&quot\;\; font-size: 13px\;" />\n<a href="https://agent.amfam.com/laurel-adkisson/mo/cape-girardeau/760-s-kingshighway-st/" style="color: rgb(7\, 130\, 193)\; font-family: sans-serif\, Arial\, Verdana\, &quot\;Trebuchet MS&quot\;\; font-size: 13px\;" target="_blank"><span style="color:#006400\;">American Family Insurance - Laurel Adkisson</span></a><br style="color: rgb(51\, 51\, 51)\; font-family: sans-serif\, Arial\, Verdana\, &quot\;Trebuchet MS&quot\;\; font-size: 13px\;" />\n<a href="https://www.banterra.com/" style="color: rgb(7\, 130\, 193)\; font-family: sans-serif\, Arial\, Verdana\, &quot\;Trebuchet MS&quot\;\; font-size: 13px\;" target="_blank"><span style="color:#006400\;">Banterra Bank&nbsp\;</span></a><br style="color: rgb(51\, 51\, 51)\; font-family: sans-serif\, Arial\, Verdana\, &quot\;Trebuchet MS&quot\;\; font-size: 13px\;" />\n<a href="https://www.bugzero.com/" style="color: rgb(7\, 130\, 193)\; font-family: sans-serif\, Arial\, Verdana\, &quot\;Trebuchet MS&quot\;\; font-size: 13px\;" target="_blank"><span style="color:#006400\;">Bug Zero</span></a><br />\n<a href="http://www.dogwoodsocialhouse.com/" target="_blank"><span style="color:#006400\;">Dogwood Social House</span></a><br style="color: rgb(51\, 51\, 51)\; font-family: sans-serif\, Arial\, Verdana\, &quot\;Trebuchet MS&quot\;\; font-size: 13px\;" />\n<a href="http://www.elite-trips.com/" style="color: rgb(7\, 130\, 193)\; font-family: sans-serif\, Arial\, Verdana\, &quot\;Trebuchet MS&quot\;\; font-size: 13px\;" target="_blank"><span style="color:#006400\;">Elite Travel\, Inc</span></a><a href="https://www.elite-trips.com/" target="_blank"><span style="color:#006400\;"><span style="font-family: sans-serif\, Arial\, Verdana\, &quot\;Trebuchet MS&quot\;\; background-color: rgb(255\, 255\, 255)\;">.&nbsp\;</span></span></a><br style="color: rgb(51\, 51\, 51)\; font-family: sans-serif\, Arial\, Verdana\, &quot\;Trebuchet MS&quot\;\; font-size: 13px\;" />\n<a href="https://www.semissourian.com/flourish" style="color: rgb(7\, 130\, 193)\; font-family: sans-serif\, Arial\, Verdana\, &quot\;Trebuchet MS&quot\;\; font-size: 13px\;" target="_blank"><span style="color:#006400\;">Flourish Magazine</span></a><br style="color: rgb(51\, 51\, 51)\; font-family: sans-serif\, Arial\, Verdana\, &quot\;Trebuchet MS&quot\;\; font-size: 13px\;" />\n<a href="https://squareup.com/store/fresh-healthy-cafe-10/" style="color: rgb(7\, 130\, 193)\; font-family: sans-serif\, Arial\, Verdana\, &quot\;Trebuchet MS&quot\;\; font-size: 13px\;" target="_blank"><span style="color:#006400\;">Fresh Healthy Cafe</span></a><br style="color: rgb(51\, 51\, 51)\; font-family: sans-serif\, Arial\, Verdana\, &quot\;Trebuchet MS&quot\;\; font-size: 13px\;" />\n<a href="https://www.pcwellnesscenters.com/" style="color: rgb(7\, 130\, 193)\; font-family: sans-serif\, Arial\, Verdana\, &quot\;Trebuchet MS&quot\;\; font-size: 13px\;" target="_blank"><span style="color:#006400\;">PC Wellness Centers</span></a><br style="color: rgb(51\, 51\, 51)\; font-family: sans-serif\, Arial\, Verdana\, &quot\;Trebuchet MS&quot\;\; font-size: 13px\;" />\n<a href="https://www.limbaughlaw.com/" style="color: rgb(7\, 130\, 193)\; font-family: sans-serif\, Arial\, Verdana\, &quot\;Trebuchet MS&quot\;\; font-size: 13px\;" target="_blank"><span style="color:#006400\;">The Limbaugh Firm</span></a><br style="color: rgb(51\, 51\, 51)\; font-family: sans-serif\, Arial\, Verdana\, &quot\;Trebuchet MS&quot\;\; font-size: 13px\;" />\n<a href="https://www.unitedrentals.com/#/" style="color: rgb(7\, 130\, 193)\; font-family: sans-serif\, Arial\, Verdana\, &quot\;Trebuchet MS&quot\;\; font-size: 13px\;" target="_blank"><span style="color:#006400\;">United Rentals&nbsp\;</span></a></span>
LOCATION:Rosati's Pizza 2136 William Street Cape Girardeau
UID:e.1421.6338
SEQUENCE:3
DTSTAMP:20260423T100139Z
URL:https://business.capechamber.com/events/details/women-s-network-workshop-scams-6338
END:VEVENT

END:VCALENDAR
