BEGIN:VCALENDAR
VERSION:2.0
PRODID:-//ChamberMaster//Event Calendar 2.0//EN
METHOD:PUBLISH
X-PUBLISHED-TTL:P3D
REFRESH-INTERVAL:P3D
CALSCALE:GREGORIAN
BEGIN:VEVENT
DTSTART:20171025T163000Z
DTEND:20171025T180000Z
X-MICROSOFT-CDO-ALLDAYEVENT:FALSE
SUMMARY:Women's Workshop-Tips for the Poised\, Polished Prof
DESCRIPTION:Women's Workshop - Tips for the Poised\, Polished Professional \n\nInteractive workshop with breakout groups focusing on:\n\n	Effective Communications presented by Dana Thomas\, BOLD Marketing - Get your point across in a professional manner \n	Handling Stressful Situations in the Workplace presented by Kristen Daniel with SoutheastHEALTH - Remain calm and keep your composure when the pressure is on\n	Dressing for Success presented by Danielle Alspaugh with Innovative Financial Solutions - Determine what is appropriate attire and what is not for YOUR workplace. \n\nLunch included in registration cost of $15 per attendee.  Reservations for tables of 8 are available for $120.
X-ALT-DESC;FMTTYPE=text/html:Women&#39\;s Workshop - Tips for the Poised\, Polished Professional&nbsp\;<br />\nInteractive workshop with breakout groups focusing on:\n<ul>\n	<li><em><strong>Effective Communications</strong></em> presented by Dana Thomas\, BOLD Marketing&nbsp\;- Get&nbsp\;your point across in a professional manner&nbsp\;</li>\n	<li><em><strong>Handling Stressful Situations in the Workplace</strong></em> presented by Kristen Daniel with SoutheastHEALTH - Remain&nbsp\;calm and keep&nbsp\;your composure when the pressure is on</li>\n	<li><em><strong>Dressing for Success</strong></em> presented by Danielle Alspaugh with Innovative Financial Solutions&nbsp\;- Determine what is appropriate attire and what is not for YOUR workplace.&nbsp\;</li>\n</ul>\nLunch included in registration cost of $15 per attendee. &nbsp\;Reservations for tables of 8 are available for $120.
LOCATION:The Lutheran Home - Activity Center 2825 Bloomfield Rd. Cape Girardeau\, MO 63703
UID:e.1421.1774
SEQUENCE:3
DTSTAMP:20260423T142015Z
URL:https://business.capechamber.com/events/details/women-s-workshop-tips-for-the-poised-polished-prof-1774
END:VEVENT

END:VCALENDAR
