BEGIN:VCALENDAR
VERSION:2.0
PRODID:-//ChamberMaster//Event Calendar 2.0//EN
METHOD:PUBLISH
X-PUBLISHED-TTL:P3D
REFRESH-INTERVAL:P3D
CALSCALE:GREGORIAN
BEGIN:VEVENT
DTSTART:20180725T130000Z
DTEND:20180725T140000Z
X-MICROSOFT-CDO-ALLDAYEVENT:FALSE
SUMMARY:Work Ready Coalition
DESCRIPTION:Focuses on making Cape Girardeau County Work Ready\, will collaborate with area partners in promoting a strong workforce and educational systems.  The committee sponsors Educator Appreciation Day\, Career Explorations Event\, Internship Seminars\, Welcome Back Student Picnic and the Partners in Education Program.\n\n\n\nContact Kim Voelker with questions.
X-ALT-DESC;FMTTYPE=text/html:<span style="font-family:albertus mt lt\;"><span style="font-size:10.0pt\;">Focuses on making Cape Girardeau County Work Ready\, will collaborate with area partners in promoting a strong workforce and educational systems.&nbsp\; The committee sponsors Educator Appreciation Day\, Career Explorations Event\, Internship Seminars\, Welcome Back Student Picnic and the Partners in Education Program.<br />\n<br />\nContact Kim Voelker with questions.</span></span><br />\n&nbsp\;
LOCATION:Cape Chamber Training Room
UID:e.1421.2946
SEQUENCE:3
DTSTAMP:20260424T053718Z
URL:https://business.capechamber.com/events/details/work-ready-coalition-2946
END:VEVENT

END:VCALENDAR
