BEGIN:VCALENDAR
VERSION:2.0
PRODID:-//ChamberMaster//Event Calendar 2.0//EN
METHOD:PUBLISH
X-PUBLISHED-TTL:P3D
REFRESH-INTERVAL:P3D
CALSCALE:GREGORIAN
BEGIN:VEVENT
DTSTART:20180824T150000Z
DTEND:20180824T190000Z
X-MICROSOFT-CDO-ALLDAYEVENT:FALSE
SUMMARY:Workplace Safety Workshop
DESCRIPTION:Brought to you by the Missouri Enterprise\, this learning session is geared towards helping supervisors\, small business owners\, divisions heads\, and operation managers have a better grasp on safety measures that can protect their people and property as well as an understanding of steps to take if an incident takes place. Walk away with lifesaving AND cost saving knowledge\, along with a Certificate of Completion for engaging in our Missouri Manufacturing Challenge workshop series. Register today or before August 21 at https://bit.ly/2uIC0HU.\n\n\nAs a bonus\, one of our experts will provide a lunch & learn on Digital Manufacturing and talk about how it is changing the game for the manufacturing industry. You will walk away feeling more aware of what is coming down the pipe and perhaps learn about tools and resources available to you now.
X-ALT-DESC;FMTTYPE=text/html:<p style="margin: 0px 0px 6px\; font-family: Helvetica\, Arial\, sans-serif\; color: rgb(29\, 33\, 41)\; font-size: 14px\; background-color: rgb(255\, 255\, 255)\;">Brought to you by the Missouri Enterprise\, this learning session is geared towards helping supervisors\, small business owners\, divisions heads\, and operation managers have a better grasp on safety measures that can protect their people and property as well as an understanding of steps to take if an incident takes place. Walk away with lifesaving AND cost saving knowledge\, along wit<span class="text_exposed_show" style="display: inline\; font-family: inherit\;">h a Certificate of Completion for engaging in our Missouri Manufacturing Challenge workshop series. Register today or before August 21 at&nbsp\;<a data-ft="{&quot\;tn&quot\;:&quot\;-U&quot\;}" data-lynx-mode="asynclazy" href="https://l.facebook.com/l.php?u=https%3A%2F%2Fbit.ly%2F2uIC0HU&amp\;h=AT3QKoup98vn8skW76zNzGXEjYlfMv3y8-IoXCkIOLXu084E8jSO1evObbrDhaZi67W3x9mWzByynBmMS0ZiI3H8YZCSUAezaw4QoM7umJ8qzNst17eEh8-Df7qckcn8gJ-Xfjds-LrSW3204Gy4" rel="noopener nofollow" style="color: rgb(54\, 88\, 153)\; cursor: pointer\; text-decoration-line: none\; font-family: inherit\;" target="_blank">https://bit.ly/2uIC0HU</a>.</span></p>\n\n<div class="text_exposed_show" style="display: inline\; font-family: Helvetica\, Arial\, sans-serif\; color: rgb(29\, 33\, 41)\; font-size: 14px\; background-color: rgb(255\, 255\, 255)\;">\n<p style="margin: 0px 0px 6px\; font-family: inherit\;">As a bonus\, one of our experts will provide a lunch &amp\; learn on Digital Manufacturing and talk about how it is changing the game for the manufacturing industry. You will walk away feeling more aware of what is coming down the pipe and perhaps learn about tools and resources available to you now.</p>\n</div>\n
LOCATION:Regional Development Center Training Room
UID:e.1421.5617
SEQUENCE:3
DTSTAMP:20260424T053728Z
URL:https://business.capechamber.com/events/details/workplace-safety-workshop-5617
END:VEVENT

END:VCALENDAR
