BEGIN:VCALENDAR
VERSION:2.0
PRODID:-//ChamberMaster//Event Calendar 2.0//EN
METHOD:PUBLISH
X-PUBLISHED-TTL:P3D
REFRESH-INTERVAL:P3D
CALSCALE:GREGORIAN
BEGIN:VEVENT
DTSTART:20191025T200000Z
DTEND:20191025T203000Z
X-MICROSOFT-CDO-ALLDAYEVENT:FALSE
SUMMARY:Younghouse Pop & Party Ribbon Cutting
DESCRIPTION:Join us as we help Younghouse Pop & Party\, previously Younghouse Party Central\, celebrate their recent rebranding and addition of liquor to the store's offerings with a ribbon cutting!
X-ALT-DESC;FMTTYPE=text/html:Join us as we help Younghouse Pop &amp\; Party\, previously Younghouse Party Central\, celebrate their recent rebranding and addition of liquor to the store&#39\;s offerings with a ribbon cutting!
LOCATION:2005 North Kingshighway Cape Girardeau\, MO
UID:e.1421.6486
SEQUENCE:3
DTSTAMP:20260423T163139Z
URL:https://business.capechamber.com/events/details/younghouse-pop-party-ribbon-cutting-6486
END:VEVENT

END:VCALENDAR
