BEGIN:VCALENDAR
VERSION:2.0
PRODID:-//ChamberMaster//Event Calendar 2.0//EN
METHOD:PUBLISH
X-PUBLISHED-TTL:P3D
REFRESH-INTERVAL:P3D
CALSCALE:GREGORIAN
BEGIN:VEVENT
DTSTART:20260505T213000Z
DTEND:20260505T233000Z
X-MICROSOFT-CDO-ALLDAYEVENT:FALSE
SUMMARY:YPC Open Social
DESCRIPTION:Cinco de Mayo Fiesta at Seis Express!\n\n\n\nIt's time to fiesta! Join the Young Professionals at Seis Express for a Cinco de Mayo celebration full of tacos\, margaritas\, and good vibes. Whether you come for the food\, the drinks\, or just the fun\, this open social is the perfect way to unwind and connect.
X-ALT-DESC;FMTTYPE=text/html:<p data-end="402" data-start="93"><strong data-end="136" data-start="98">Cinco de Mayo Fiesta at Seis Express!</strong><br />\n<br data-end="144" data-start="141" />\nIt&rsquo\;s time to fiesta! Join the Young Professionals at Seis Express&nbsp\;for a Cinco de Mayo celebration full of tacos\, margaritas\, and good vibes. Whether you come for the food\, the drinks\, or just the fun\, this open social is the perfect way to unwind and connect.</p>\n
LOCATION:Seis Express 440 S. Mount Auburn Rd Cape Girardeau\, MO 63703
UID:e.1421.12459
SEQUENCE:3
DTSTAMP:20260424T135533Z
URL:https://business.capechamber.com/events/details/ypc-open-social-12459
END:VEVENT

END:VCALENDAR
