BEGIN:VCALENDAR
VERSION:2.0
PRODID:-//ChamberMaster//Event Calendar 2.0//EN
METHOD:PUBLISH
X-PUBLISHED-TTL:P3D
REFRESH-INTERVAL:P3D
CALSCALE:GREGORIAN
BEGIN:VEVENT
DTSTART:20260720T213000Z
DTEND:20260720T233000Z
X-MICROSOFT-CDO-ALLDAYEVENT:FALSE
SUMMARY:YPC Open Social
DESCRIPTION:Tee Off with Young Professionals!\n\n\n\nJoin us at The TeeHouse Complex for a high-energy open social! Take a swing on the driving range\, practice your putting with mini golf\, and enjoy food\, drinks\, and plenty of laughs. Whether you're a pro on the green or just here for the fun with your friends\, it's the perfect way to mix networking with a little friendly competition.
X-ALT-DESC;FMTTYPE=text/html:<p data-end="438" data-start="94"><span style="font-size:16px\;"><em><strong data-end="136" data-start="99">Tee Off with Young Professionals!</strong></em></span><br />\n<br data-end="144" data-start="141" />\nJoin us at The TeeHouse Complex for a high-energy open social! Take a swing on the driving range\, practice your putting with mini golf\,&nbsp\;and enjoy food\, drinks\, and plenty of laughs. Whether you&rsquo\;re a pro on the green or just here for the fun with your friends\, it&rsquo\;s the perfect way to mix networking with a little friendly competition.</p>\n
LOCATION:The TeeHouse Complex 2901 Hawthorne Rd Cape Girardeau\, MO 63701
UID:e.1421.12461
SEQUENCE:3
DTSTAMP:20260424T170812Z
URL:https://business.capechamber.com/events/details/ypc-open-social-12461
END:VEVENT

END:VCALENDAR
