BEGIN:VCALENDAR
VERSION:2.0
PRODID:-//ChamberMaster//Event Calendar 2.0//EN
METHOD:PUBLISH
X-PUBLISHED-TTL:P3D
REFRESH-INTERVAL:P3D
CALSCALE:GREGORIAN
BEGIN:VEVENT
DTSTART:20261120T223000Z
DTEND:20261121T003000Z
X-MICROSOFT-CDO-ALLDAYEVENT:FALSE
SUMMARY:YPC Open Social
DESCRIPTION:YPC Family Friendly Bonfire Night\n\n\n\nJoin the Young Professionals Council for a cozy fall evening by the fire at Prodigy Leadership Academy! This family-friendly open social will feature s'mores\, hot drinks\, and plenty of time to relax\, connect\, and enjoy the crisp November night together.\n\nBring your family\, your friends\, and your fall spirit it's the perfect way to end the season with warmth and community.
X-ALT-DESC;FMTTYPE=text/html:<p data-end="400" data-start="107"><strong data-end="133" data-start="112">YPC Family Friendly Bonfire Night</strong><br />\n<br data-end="141" data-start="138" />\nJoin the Young Professionals Council for a cozy fall evening by the fire at <strong data-end="247" data-start="217">Prodigy Leadership Academy</strong>! This family-friendly open social will feature s&rsquo\;mores\, hot drinks\, and plenty of time to relax\, connect\, and enjoy the crisp November night together.</p>\n\n<p data-end="459" data-start="402">Bring your family\, your friends\, and your fall spirit&mdash\;it&rsquo\;s the perfect way to end the season with warmth and community.</p>\n
LOCATION:Prodigy Leadership Academy 232 Sierra Ridge Lane Cape Girardeau\, MO 63701
UID:e.1421.12465
SEQUENCE:3
DTSTAMP:20260425T005558Z
URL:https://business.capechamber.com/events/details/ypc-open-social-12465
END:VEVENT

END:VCALENDAR
