BEGIN:VCALENDAR
VERSION:2.0
PRODID:-//ChamberMaster//Event Calendar 2.0//EN
METHOD:PUBLISH
X-PUBLISHED-TTL:P3D
REFRESH-INTERVAL:P3D
CALSCALE:GREGORIAN
BEGIN:VEVENT
DTSTART:20180611T140000Z
DTEND:20180611T143000Z
X-MICROSOFT-CDO-ALLDAYEVENT:FALSE
SUMMARY:Zaxby's Ribbon Cutting
DESCRIPTION:Join us as we celebrate the grand opening of Zaxby's with a ribbon cutting!
X-ALT-DESC;FMTTYPE=text/html:Join us as we celebrate the grand opening of Zaxby&#39\;s&nbsp\;with a ribbon cutting!
LOCATION:407 Cape West Crossing Cape Girardeau\, MO
UID:e.1421.5543
SEQUENCE:3
DTSTAMP:20260424T024930Z
URL:https://business.capechamber.com/events/details/zaxby-s-ribbon-cutting-5543
END:VEVENT

END:VCALENDAR
